BEGIN:VCALENDAR
VERSION:2.0
PRODID:-//85.215.231.133//NONSGML kigkonsult.se iCalcreator 2.20//
CALSCALE:GREGORIAN
METHOD:PUBLISH
X-WR-TIMEZONE:Europe/Berlin
BEGIN:VEVENT
UID:event845@🏌️GC-MST
DTSTAMP:20260419T190912Z
CATEGORIES:Turnier (DQV)
DESCRIPTION:JOKA 9-Loch After Work Trophy 4\nKategorie: Turnier (DQV)\nICS-
 Link: https://www.gc-mst.de/index.php?option=com_jem&view=event&id=845:jok
 a-9-loch-after-work-trophy-4\n
DTSTART;TZID=Europe/Berlin:20260708T170000
DTEND;TZID=Europe/Berlin:20260708T210000
LOCATION:Golfclub-MST\,Bornmühle 1a\, 17094  Groß Nemerow
SUMMARY:JOKA 9-Loch After Work Trophy 4
URL:https://www.gc-mst.de/index.php?option=com_jem&view=event&id=845:joka-9
 -loch-after-work-trophy-4
END:VEVENT
END:VCALENDAR