BEGIN:VCALENDAR
VERSION:2.0
PRODID:-//85.215.231.133//NONSGML kigkonsult.se iCalcreator 2.20//
CALSCALE:GREGORIAN
METHOD:PUBLISH
X-WR-TIMEZONE:Europe/Berlin
BEGIN:VEVENT
UID:event846@🏌️GC-MST
DTSTAMP:20260419T203059Z
CATEGORIES:Turnier (DQV)
DESCRIPTION:JOKA 9-Loch After Work Trophy 5\nKategorie: Turnier (DQV)\nICS-
 Link: https://www.gc-mst.de/index.php?option=com_jem&view=event&id=846:jok
 a-9-loch-after-work-trophy-5\n
DTSTART;TZID=Europe/Berlin:20260805T170000
DTEND;TZID=Europe/Berlin:20260805T210000
LOCATION:Golfclub-MST\,Bornmühle 1a\, 17094  Groß Nemerow
SUMMARY:JOKA 9-Loch After Work Trophy 5
URL:https://www.gc-mst.de/index.php?option=com_jem&view=event&id=846:joka-9
 -loch-after-work-trophy-5
END:VEVENT
END:VCALENDAR