BEGIN:VCALENDAR
VERSION:2.0
PRODID:-//85.215.231.133//NONSGML kigkonsult.se iCalcreator 2.20//
CALSCALE:GREGORIAN
METHOD:PUBLISH
X-WR-TIMEZONE:Europe/Berlin
BEGIN:VEVENT
UID:event849@🏌️GC-MST
DTSTAMP:20260419T185448Z
CATEGORIES:Turnier (DQV)
DESCRIPTION:MÖBEL PREUSS After Work 2\nKategorie: Turnier (DQV)\nICS-Link: 
 https://www.gc-mst.de/index.php?option=com_jem&view=event&id=849:after-wor
 k-2\n
DTSTART;TZID=Europe/Berlin:20260610T170000
DTEND;TZID=Europe/Berlin:20260610T210000
LOCATION:Golfclub-MST\,Bornmühle 1a\, 17094  Groß Nemerow
SUMMARY:MÖBEL PREUSS After Work 2
URL:https://www.gc-mst.de/index.php?option=com_jem&view=event&id=849:after-
 work-2
END:VEVENT
END:VCALENDAR