BEGIN:VCALENDAR
VERSION:2.0
PRODID:-//85.215.231.133//NONSGML kigkonsult.se iCalcreator 2.20//
CALSCALE:GREGORIAN
METHOD:PUBLISH
X-WR-TIMEZONE:Europe/Berlin
BEGIN:VEVENT
UID:event860@🏌️GC-MST
DTSTAMP:20260419T191704Z
CATEGORIES:Turnier (DQV)
DESCRIPTION:GLOBUS Tollense Cup 5\nKategorie: Turnier (DQV)\nICS-Link: http
 s://www.gc-mst.de/index.php?option=com_jem&view=event&id=860:tollense-cup-
 5\n
DTSTART;TZID=Europe/Berlin:20260812T170000
DTEND;TZID=Europe/Berlin:20260812T210000
LOCATION:Golfclub-MST\,Bornmühle 1a\, 17094  Groß Nemerow
SUMMARY:GLOBUS Tollense Cup 5
URL:https://www.gc-mst.de/index.php?option=com_jem&view=event&id=860:tollen
 se-cup-5
END:VEVENT
END:VCALENDAR