BEGIN:VCALENDAR
VERSION:2.0
PRODID:-//85.215.231.133//NONSGML kigkonsult.se iCalcreator 2.20//
CALSCALE:GREGORIAN
METHOD:PUBLISH
X-WR-TIMEZONE:Europe/Berlin
BEGIN:VEVENT
UID:event861@🏌️GC-MST
DTSTAMP:20260419T190453Z
CATEGORIES:Turnier (DQV)
DESCRIPTION:GLOBUS Tollense Cup 6\nKategorie: Turnier (DQV)\nICS-Link: http
 s://www.gc-mst.de/index.php?option=com_jem&view=event&id=861:tollense-cup-
 6\n
DTSTART;TZID=Europe/Berlin:20260826T170000
DTEND;TZID=Europe/Berlin:20260826T210000
LOCATION:Golfclub-MST\,Bornmühle 1a\, 17094  Groß Nemerow
SUMMARY:GLOBUS Tollense Cup 6
URL:https://www.gc-mst.de/index.php?option=com_jem&view=event&id=861:tollen
 se-cup-6
END:VEVENT
END:VCALENDAR