BEGIN:VCALENDAR
VERSION:2.0
PRODID:-//85.215.231.133//NONSGML kigkonsult.se iCalcreator 2.20//
CALSCALE:GREGORIAN
METHOD:PUBLISH
X-WR-TIMEZONE:Europe/Berlin
BEGIN:VEVENT
UID:event863@🏌️GC-MST
DTSTAMP:20260419T203114Z
CATEGORIES:Turnier (DQV)
DESCRIPTION:POKAL: JOKA Rules Tournament Series Einzel Matchplay 2026\nKate
 gorie: Turnier (DQV)\nICS-Link: https://www.gc-mst.de/index.php?option=com
 _jem&view=event&id=863:joka-rules-tournament-series-einzel-matchplay-2026
 \n
DTSTART;TZID=Europe/Berlin:20260501T200000
DTEND;TZID=Europe/Berlin:20260913T170000
LOCATION:Golfclub-MST\,Bornmühle 1a\, 17094  Groß Nemerow
SUMMARY:POKAL: JOKA Rules Tournament Series Einzel Matchplay 2026
URL:https://www.gc-mst.de/index.php?option=com_jem&view=event&id=863:joka-r
 ules-tournament-series-einzel-matchplay-2026
END:VEVENT
END:VCALENDAR