BEGIN:VCALENDAR
VERSION:2.0
PRODID:-//85.215.231.133//NONSGML kigkonsult.se iCalcreator 2.20//
CALSCALE:GREGORIAN
METHOD:PUBLISH
X-WR-TIMEZONE:Europe/Berlin
BEGIN:VEVENT
UID:event864@🏌️GC-MST
DTSTAMP:20260419T191540Z
CATEGORIES:Turnier (DQV)
DESCRIPTION:POKAL: JOKA Rules Tournament Series 2er Texas Scramble Matchpla
 y 2026\nKategorie: Turnier (DQV)\nICS-Link: https://www.gc-mst.de/index.ph
 p?option=com_jem&view=event&id=864:joka-rules-tournament-series-2er-texas-
 scramble-matchplay-2026einzel-matchplay-2026\n
DTSTART;TZID=Europe/Berlin:20260501T200000
DTEND;TZID=Europe/Berlin:20260913T170000
LOCATION:Golfclub-MST\,Bornmühle 1a\, 17094  Groß Nemerow
SUMMARY:POKAL: JOKA Rules Tournament Series 2er Texas Scramble Matchplay 20
 26
URL:https://www.gc-mst.de/index.php?option=com_jem&view=event&id=864:joka-r
 ules-tournament-series-2er-texas-scramble-matchplay-2026einzel-matchplay-2
 026
END:VEVENT
END:VCALENDAR