BEGIN:VCALENDAR
VERSION:2.0
PRODID:-//85.215.231.133//NONSGML kigkonsult.se iCalcreator 2.20//
CALSCALE:GREGORIAN
METHOD:PUBLISH
X-WR-TIMEZONE:Europe/Berlin
BEGIN:VEVENT
UID:event865@🏌️GC-MST
DTSTAMP:20260419T191540Z
CATEGORIES:Veranstaltung
DESCRIPTION:PARTY IN DER MASCHINENHALLE\nKategorie: Veranstaltung\nICS-Link
 : https://www.gc-mst.de/index.php?option=com_jem&view=event&id=865:party-i
 n-der-mascchinenhalle\n
DTSTART;TZID=Europe/Berlin:20260502T170000
DTEND;TZID=Europe/Berlin:20260502T235900
LOCATION:Gerätehalle\,Bornmühle 1a\,17094 Groß Nemerow
SUMMARY:PARTY IN DER MASCHINENHALLE
URL:https://www.gc-mst.de/index.php?option=com_jem&view=event&id=865:party-
 in-der-mascchinenhalle
END:VEVENT
END:VCALENDAR