BEGIN:VCALENDAR
VERSION:2.0
PRODID:-//85.215.231.133//NONSGML kigkonsult.se iCalcreator 2.20//
CALSCALE:GREGORIAN
METHOD:PUBLISH
X-WR-TIMEZONE:Europe/Berlin
BEGIN:VEVENT
UID:event866@🏌️GC-MST
DTSTAMP:20260419T192335Z
CATEGORIES:Turnier (DQV)
DESCRIPTION:O´ZAPFT IS! Oktoberfestturnier.\nKategorie: Turnier (DQV)\nICS-
 Link: https://www.gc-mst.de/index.php?option=com_jem&view=event&id=866:kue
 rbisturnier\n
DTSTART;TZID=Europe/Berlin:20260919T100000
DTEND;TZID=Europe/Berlin:20260919T160000
LOCATION:Golfclub-MST\,Bornmühle 1a\, 17094  Groß Nemerow
SUMMARY:O´ZAPFT IS! Oktoberfestturnier.
URL:https://www.gc-mst.de/index.php?option=com_jem&view=event&id=866:kuerbi
 sturnier
END:VEVENT
END:VCALENDAR